BEGIN:VCALENDAR
PRODID:-//SMW Project//Semantic Result Formats
VERSION:2.0
METHOD:PUBLISH
X-WR-CALNAME:International Center for Computational Logic
X-WR-CALDESC:
BEGIN:VEVENT
SUMMARY:Inconsistency Values for Logic Programs under Answer Set Semantics
URL://iccl.inf.tu-dresden.de/web/Inconsistency_Values_for_Logic_Programs_under_Answer_Set_Semantics
UID://iccl.inf.tu-dresden.de/web/Inconsistency_Values_for_Logic_Programs_under_Answer_Set_Semantics
DTSTART:20201022T130000
DTEND:20201022T143000
LOCATION:Online
DTSTAMP:20201016T090429
SEQUENCE:31550
END:VEVENT
END:VCALENDAR
