BEGIN:VCALENDAR
PRODID:-//SMW Project//Semantic Result Formats
VERSION:2.0
METHOD:PUBLISH
X-WR-CALNAME:International Center for Computational Logic
X-WR-CALDESC:
BEGIN:VEVENT
SUMMARY:Smoke Test Planning using Answer Set Programming
URL://iccl.inf.tu-dresden.de/web/Smoke_Test_Planning_using_Answer_Set_Programming
UID://iccl.inf.tu-dresden.de/web/Smoke_Test_Planning_using_Answer_Set_Programming
DTSTART:20200910T130000
DTEND:20200910T143000
LOCATION:Online
DTSTAMP:20200910T121605
SEQUENCE:31266
END:VEVENT
END:VCALENDAR
